BEGIN:VCALENDAR
VERSION:2.0
PRODID:-//Tiszaparti Római Katolikus Általános Iskola és Gimnázium - ECPv6.15.20//NONSGML v1.0//EN
CALSCALE:GREGORIAN
METHOD:PUBLISH
X-ORIGINAL-URL:https://tiszaparti-szolnok.hu
X-WR-CALDESC:Események Tiszaparti Római Katolikus Általános Iskola és Gimnázium
REFRESH-INTERVAL;VALUE=DURATION:PT1H
X-Robots-Tag:noindex
X-PUBLISHED-TTL:PT1H
BEGIN:VTIMEZONE
TZID:Europe/Budapest
BEGIN:DAYLIGHT
TZOFFSETFROM:+0100
TZOFFSETTO:+0200
TZNAME:CEST
DTSTART:20250330T010000
END:DAYLIGHT
BEGIN:STANDARD
TZOFFSETFROM:+0200
TZOFFSETTO:+0100
TZNAME:CET
DTSTART:20251026T010000
END:STANDARD
BEGIN:DAYLIGHT
TZOFFSETFROM:+0100
TZOFFSETTO:+0200
TZNAME:CEST
DTSTART:20260329T010000
END:DAYLIGHT
BEGIN:STANDARD
TZOFFSETFROM:+0200
TZOFFSETTO:+0100
TZNAME:CET
DTSTART:20261025T010000
END:STANDARD
BEGIN:DAYLIGHT
TZOFFSETFROM:+0100
TZOFFSETTO:+0200
TZNAME:CEST
DTSTART:20270328T010000
END:DAYLIGHT
BEGIN:STANDARD
TZOFFSETFROM:+0200
TZOFFSETTO:+0100
TZNAME:CET
DTSTART:20271031T010000
END:STANDARD
END:VTIMEZONE
BEGIN:VEVENT
DTSTART;TZID=Europe/Budapest:20260427T075000
DTEND;TZID=Europe/Budapest:20260429T124000
DTSTAMP:20260420T085843
CREATED:20260404T135809Z
LAST-MODIFIED:20260404T135809Z
UID:5911-1777276200-1777466400@tiszaparti-szolnok.hu
SUMMARY:Kompetenciamérés 9.b\, 9.g
DESCRIPTION:
URL:https://tiszaparti-szolnok.hu/event/kompetenciameres-9-b-9-g/
END:VEVENT
BEGIN:VEVENT
DTSTART;TZID=Europe/Budapest:20260430T140000
DTEND;TZID=Europe/Budapest:20260430T180000
DTSTAMP:20260420T085843
CREATED:20260404T141234Z
LAST-MODIFIED:20260404T141234Z
UID:5929-1777557600-1777572000@tiszaparti-szolnok.hu
SUMMARY:Városi ballagás 12. évfolyam
DESCRIPTION:
URL:https://tiszaparti-szolnok.hu/event/varosi-ballagas-12-evfolyam/
END:VEVENT
BEGIN:VEVENT
DTSTART;TZID=Europe/Budapest:20260504T101500
DTEND;TZID=Europe/Budapest:20260505T150000
DTSTAMP:20260420T085843
CREATED:20260404T134544Z
LAST-MODIFIED:20260404T134544Z
UID:5894-1777889700-1777993200@tiszaparti-szolnok.hu
SUMMARY:Kompetenciamérés 8.a
DESCRIPTION:
URL:https://tiszaparti-szolnok.hu/event/kompetenciameres-8-a/
END:VEVENT
BEGIN:VEVENT
DTSTART;TZID=Europe/Budapest:20260506T101500
DTEND;TZID=Europe/Budapest:20260507T150000
DTSTAMP:20260420T085843
CREATED:20260404T134336Z
LAST-MODIFIED:20260404T134336Z
UID:5890-1778062500-1778166000@tiszaparti-szolnok.hu
SUMMARY:Kompetenciamérés 8.g
DESCRIPTION:
URL:https://tiszaparti-szolnok.hu/event/kompetenciameres-8-g/
END:VEVENT
BEGIN:VEVENT
DTSTART;TZID=Europe/Budapest:20260508T075000
DTEND;TZID=Europe/Budapest:20260508T124000
DTSTAMP:20260420T085843
CREATED:20260404T134427Z
LAST-MODIFIED:20260404T135014Z
UID:5892-1778226600-1778244000@tiszaparti-szolnok.hu
SUMMARY:Kompetenciamérés 8.g
DESCRIPTION:
URL:https://tiszaparti-szolnok.hu/event/kompetenciameres-8-g-2/
END:VEVENT
BEGIN:VEVENT
DTSTART;TZID=Europe/Budapest:20260508T075000
DTEND;TZID=Europe/Budapest:20260508T124000
DTSTAMP:20260420T085843
CREATED:20260404T134619Z
LAST-MODIFIED:20260404T134633Z
UID:5896-1778226600-1778244000@tiszaparti-szolnok.hu
SUMMARY:Kompetenciamérés 8.a
DESCRIPTION:
URL:https://tiszaparti-szolnok.hu/event/kompetenciameres-8-a-2/
END:VEVENT
BEGIN:VEVENT
DTSTART;TZID=Europe/Budapest:20260511T103000
DTEND;TZID=Europe/Budapest:20260511T150000
DTSTAMP:20260420T085843
CREATED:20260404T135857Z
LAST-MODIFIED:20260404T135857Z
UID:5913-1778495400-1778511600@tiszaparti-szolnok.hu
SUMMARY:Kompetenciamérés 9.a
DESCRIPTION:
URL:https://tiszaparti-szolnok.hu/event/kompetenciameres-9-a/
END:VEVENT
BEGIN:VEVENT
DTSTART;TZID=Europe/Budapest:20260512T075000
DTEND;TZID=Europe/Budapest:20260513T124000
DTSTAMP:20260420T085843
CREATED:20260404T133421Z
LAST-MODIFIED:20260404T133939Z
UID:5875-1778572200-1778676000@tiszaparti-szolnok.hu
SUMMARY:Kompetenciamérés 5.a
DESCRIPTION:5.a
URL:https://tiszaparti-szolnok.hu/event/kompetenciameres-2/
END:VEVENT
BEGIN:VEVENT
DTSTART;TZID=Europe/Budapest:20260514T075000
DTEND;TZID=Europe/Budapest:20260515T124000
DTSTAMP:20260420T085843
CREATED:20260404T133821Z
LAST-MODIFIED:20260404T133952Z
UID:5882-1778745000-1778848800@tiszaparti-szolnok.hu
SUMMARY:Kompetenciamérés 5.g
DESCRIPTION:5.g
URL:https://tiszaparti-szolnok.hu/event/kompetenciameres-3/
END:VEVENT
BEGIN:VEVENT
DTSTART;TZID=Europe/Budapest:20260518T103000
DTEND;TZID=Europe/Budapest:20260519T150000
DTSTAMP:20260420T085843
CREATED:20260404T135941Z
LAST-MODIFIED:20260404T135941Z
UID:5915-1779100200-1779202800@tiszaparti-szolnok.hu
SUMMARY:Kompetenciamérés 9.a
DESCRIPTION:
URL:https://tiszaparti-szolnok.hu/event/kompetenciameres-9-a-2/
END:VEVENT
END:VCALENDAR