BEGIN:VCALENDAR
VERSION:2.0
PRODID:-//Tiszaparti Római Katolikus Általános Iskola és Gimnázium - ECPv6.15.20//NONSGML v1.0//EN
CALSCALE:GREGORIAN
METHOD:PUBLISH
X-WR-CALNAME:Tiszaparti Római Katolikus Általános Iskola és Gimnázium
X-ORIGINAL-URL:https://tiszaparti-szolnok.hu
X-WR-CALDESC:Események Tiszaparti Római Katolikus Általános Iskola és Gimnázium
REFRESH-INTERVAL;VALUE=DURATION:PT1H
X-Robots-Tag:noindex
X-PUBLISHED-TTL:PT1H
BEGIN:VTIMEZONE
TZID:Europe/Budapest
BEGIN:DAYLIGHT
TZOFFSETFROM:+0100
TZOFFSETTO:+0200
TZNAME:CEST
DTSTART:20250330T010000
END:DAYLIGHT
BEGIN:STANDARD
TZOFFSETFROM:+0200
TZOFFSETTO:+0100
TZNAME:CET
DTSTART:20251026T010000
END:STANDARD
BEGIN:DAYLIGHT
TZOFFSETFROM:+0100
TZOFFSETTO:+0200
TZNAME:CEST
DTSTART:20260329T010000
END:DAYLIGHT
BEGIN:STANDARD
TZOFFSETFROM:+0200
TZOFFSETTO:+0100
TZNAME:CET
DTSTART:20261025T010000
END:STANDARD
BEGIN:DAYLIGHT
TZOFFSETFROM:+0100
TZOFFSETTO:+0200
TZNAME:CEST
DTSTART:20270328T010000
END:DAYLIGHT
BEGIN:STANDARD
TZOFFSETFROM:+0200
TZOFFSETTO:+0100
TZNAME:CET
DTSTART:20271031T010000
END:STANDARD
END:VTIMEZONE
BEGIN:VEVENT
DTSTART;TZID=Europe/Budapest:20260514T075000
DTEND;TZID=Europe/Budapest:20260515T124000
DTSTAMP:20260420T085146
CREATED:20260404T133821Z
LAST-MODIFIED:20260404T133952Z
UID:5882-1778745000-1778848800@tiszaparti-szolnok.hu
SUMMARY:Kompetenciamérés 5.g
DESCRIPTION:5.g
URL:https://tiszaparti-szolnok.hu/event/kompetenciameres-3/
END:VEVENT
END:VCALENDAR