BEGIN:VCALENDAR
VERSION:2.0
PRODID:-//Tiszaparti Római Katolikus Általános Iskola és Gimnázium - ECPv6.15.20//NONSGML v1.0//EN
CALSCALE:GREGORIAN
METHOD:PUBLISH
X-WR-CALNAME:Tiszaparti Római Katolikus Általános Iskola és Gimnázium
X-ORIGINAL-URL:https://tiszaparti-szolnok.hu
X-WR-CALDESC:Események Tiszaparti Római Katolikus Általános Iskola és Gimnázium
REFRESH-INTERVAL;VALUE=DURATION:PT1H
X-Robots-Tag:noindex
X-PUBLISHED-TTL:PT1H
BEGIN:VTIMEZONE
TZID:Europe/Budapest
BEGIN:DAYLIGHT
TZOFFSETFROM:+0100
TZOFFSETTO:+0200
TZNAME:CEST
DTSTART:20250330T010000
END:DAYLIGHT
BEGIN:STANDARD
TZOFFSETFROM:+0200
TZOFFSETTO:+0100
TZNAME:CET
DTSTART:20251026T010000
END:STANDARD
BEGIN:DAYLIGHT
TZOFFSETFROM:+0100
TZOFFSETTO:+0200
TZNAME:CEST
DTSTART:20260329T010000
END:DAYLIGHT
BEGIN:STANDARD
TZOFFSETFROM:+0200
TZOFFSETTO:+0100
TZNAME:CET
DTSTART:20261025T010000
END:STANDARD
BEGIN:DAYLIGHT
TZOFFSETFROM:+0100
TZOFFSETTO:+0200
TZNAME:CEST
DTSTART:20270328T010000
END:DAYLIGHT
BEGIN:STANDARD
TZOFFSETFROM:+0200
TZOFFSETTO:+0100
TZNAME:CET
DTSTART:20271031T010000
END:STANDARD
END:VTIMEZONE
BEGIN:VEVENT
DTSTART;VALUE=DATE:20260422
DTEND;VALUE=DATE:20260426
DTSTAMP:20260420T072446
CREATED:20260404T140705Z
LAST-MODIFIED:20260404T140705Z
UID:5923-1776816000-1777161599@tiszaparti-szolnok.hu
SUMMARY:Határtalanul tanulmányi kirándulás 7.évf
DESCRIPTION:
URL:https://tiszaparti-szolnok.hu/event/hatartalanul-tanulmanyi-kirandulas-7-evf/
END:VEVENT
BEGIN:VEVENT
DTSTART;TZID=Europe/Budapest:20260422T075000
DTEND;TZID=Europe/Budapest:20260424T124000
DTSTAMP:20260420T072446
CREATED:20260404T130740Z
LAST-MODIFIED:20260404T133925Z
UID:5862-1776844200-1777034400@tiszaparti-szolnok.hu
SUMMARY:Kompetenciamérés 6.g
DESCRIPTION:6.g
URL:https://tiszaparti-szolnok.hu/event/kompetenciameres/
END:VEVENT
BEGIN:VEVENT
DTSTART;TZID=Europe/Budapest:20260423T080000
DTEND;TZID=Europe/Budapest:20260424T160000
DTSTAMP:20260420T072446
CREATED:20260404T141036Z
LAST-MODIFIED:20260404T141036Z
UID:5927-1776931200-1777046400@tiszaparti-szolnok.hu
SUMMARY:Elsősök beiratkozása
DESCRIPTION:
URL:https://tiszaparti-szolnok.hu/event/elsosok-beiratkozasa/
END:VEVENT
END:VCALENDAR