BEGIN:VCALENDAR
VERSION:2.0
PRODID:-//Tiszaparti Római Katolikus Általános Iskola és Gimnázium - ECPv6.15.20//NONSGML v1.0//EN
CALSCALE:GREGORIAN
METHOD:PUBLISH
X-ORIGINAL-URL:https://tiszaparti-szolnok.hu
X-WR-CALDESC:Események Tiszaparti Római Katolikus Általános Iskola és Gimnázium
REFRESH-INTERVAL;VALUE=DURATION:PT1H
X-Robots-Tag:noindex
X-PUBLISHED-TTL:PT1H
BEGIN:VTIMEZONE
TZID:Europe/Budapest
BEGIN:DAYLIGHT
TZOFFSETFROM:+0100
TZOFFSETTO:+0200
TZNAME:CEST
DTSTART:20250330T010000
END:DAYLIGHT
BEGIN:STANDARD
TZOFFSETFROM:+0200
TZOFFSETTO:+0100
TZNAME:CET
DTSTART:20251026T010000
END:STANDARD
BEGIN:DAYLIGHT
TZOFFSETFROM:+0100
TZOFFSETTO:+0200
TZNAME:CEST
DTSTART:20260329T010000
END:DAYLIGHT
BEGIN:STANDARD
TZOFFSETFROM:+0200
TZOFFSETTO:+0100
TZNAME:CET
DTSTART:20261025T010000
END:STANDARD
BEGIN:DAYLIGHT
TZOFFSETFROM:+0100
TZOFFSETTO:+0200
TZNAME:CEST
DTSTART:20270328T010000
END:DAYLIGHT
BEGIN:STANDARD
TZOFFSETFROM:+0200
TZOFFSETTO:+0100
TZNAME:CET
DTSTART:20271031T010000
END:STANDARD
END:VTIMEZONE
BEGIN:VEVENT
DTSTART;TZID=Europe/Budapest:20260413T075000
DTEND;TZID=Europe/Budapest:20260414T124500
DTSTAMP:20260420T072638
CREATED:20260404T135348Z
LAST-MODIFIED:20260404T135348Z
UID:5903-1776066600-1776170700@tiszaparti-szolnok.hu
SUMMARY:Kompetenciamérés 10.g\, 11.g
DESCRIPTION:
URL:https://tiszaparti-szolnok.hu/event/kompetenciameres-10-g-11-g/
END:VEVENT
BEGIN:VEVENT
DTSTART;TZID=Europe/Budapest:20260414T160000
DTEND;TZID=Europe/Budapest:20260414T180000
DTSTAMP:20260420T072638
CREATED:20260404T140235Z
LAST-MODIFIED:20260404T140325Z
UID:5917-1776182400-1776189600@tiszaparti-szolnok.hu
SUMMARY:Fogadóóra 5-10. évf. számára
DESCRIPTION:
URL:https://tiszaparti-szolnok.hu/event/fogadoora-5-10-evfolyam-szamara/
END:VEVENT
END:VCALENDAR